BEGIN:VCALENDAR
VERSION:2.0
PRODID:-//Paragliding Performance School - ECPv6.8.3//NONSGML v1.0//EN
CALSCALE:GREGORIAN
METHOD:PUBLISH
X-ORIGINAL-URL:https://pps-parapente.com
X-WR-CALDESC:Events for Paragliding Performance School
REFRESH-INTERVAL;VALUE=DURATION:PT1H
X-Robots-Tag:noindex
X-PUBLISHED-TTL:PT1H
BEGIN:VTIMEZONE
TZID:Europe/Paris
BEGIN:DAYLIGHT
TZOFFSETFROM:+0100
TZOFFSETTO:+0200
TZNAME:CEST
DTSTART:20250330T010000
END:DAYLIGHT
BEGIN:STANDARD
TZOFFSETFROM:+0200
TZOFFSETTO:+0100
TZNAME:CET
DTSTART:20251026T010000
END:STANDARD
END:VTIMEZONE
BEGIN:VEVENT
DTSTART;TZID=Europe/Paris:20251011T000000
DTEND;TZID=Europe/Paris:20251012T235959
DTSTAMP:20260426T051702
CREATED:20231221T091931Z
LAST-MODIFIED:20250728T093417Z
UID:1080-1760140800-1760313599@pps-parapente.com
SUMMARY:#8 Discover thermals\, perfection and thermal flying.
DESCRIPTION:Destination Les Vosges \n\n\n\nPPS offers paragliding training by organising all the necessary courses for your progression. To ensure quality training\, we only take 7 students per course.  \n\n\n\nIf enough interested students the course could go until the 15th of October  \n\n\n\n\nAdvanced / Perfection\n\n\n\n\n\nDiscover thermals\n\n\n\n\n\nThermal\n\n\n\n\n\nRegistration
URL:https://pps-parapente.com/event/discover-thermals-perfection-and-thermal-flying-2/
END:VEVENT
BEGIN:VEVENT
DTSTART;TZID=Europe/Paris:20251026T000000
DTEND;TZID=Europe/Paris:20251101T235959
DTSTAMP:20260426T051702
CREATED:20231221T092310Z
LAST-MODIFIED:20250728T093649Z
UID:1082-1761436800-1762041599@pps-parapente.com
SUMMARY:#9 thermal course with perfection.
DESCRIPTION:Destination Bassano. \n\n\n\nPPS offers paragliding training by organising all the necessary courses for your progression. ensure quality training\, we only take 7 students per course. \n\n\n\n \n\n\n\n\nThermal\n\n\n\n\n\nAdvanced / Perfection\n\n\n\n\n\nRegistration
URL:https://pps-parapente.com/event/hike-fly-combined-with-perfection/
END:VEVENT
END:VCALENDAR