BEGIN:VCALENDAR
VERSION:2.0
PRODID:-//Paragliding Performance School - ECPv6.8.3//NONSGML v1.0//EN
CALSCALE:GREGORIAN
METHOD:PUBLISH
X-ORIGINAL-URL:https://pps-parapente.com
X-WR-CALDESC:Events for Paragliding Performance School
REFRESH-INTERVAL;VALUE=DURATION:PT1H
X-Robots-Tag:noindex
X-PUBLISHED-TTL:PT1H
BEGIN:VTIMEZONE
TZID:Europe/Paris
BEGIN:DAYLIGHT
TZOFFSETFROM:+0100
TZOFFSETTO:+0200
TZNAME:CEST
DTSTART:20260329T010000
END:DAYLIGHT
BEGIN:STANDARD
TZOFFSETFROM:+0200
TZOFFSETTO:+0100
TZNAME:CET
DTSTART:20261025T010000
END:STANDARD
END:VTIMEZONE
BEGIN:VEVENT
DTSTART;TZID=Europe/Paris:20260426T000000
DTEND;TZID=Europe/Paris:20260502T235959
DTSTAMP:20260425T183114
CREATED:20231221T104835Z
LAST-MODIFIED:20260208T071919Z
UID:1108-1777161600-1777766399@pps-parapente.com
SUMMARY:#1 Discover thermals and perfection.
DESCRIPTION:Destination depending of the weather conditions. Bassano Del Grappa – Millau -… \n\n\n\nPPS offers paragliding training by organising all the necessary courses for your progression. To ensure quality training\, we only take 7 students per course.   \n\n\n\n\n\n\nDiscover Thermals\n\n\n\nAdvance and perfection \n\n\n\nThermal (XC)\n\n\n\n\n\nRegistration
URL:https://pps-parapente.com/event/1/
END:VEVENT
END:VCALENDAR